BEGIN:VCALENDAR
VERSION:2.0
PRODID:-//Norsk Numismatisk Forening - ECPv4.7.4//NONSGML v1.0//EN
CALSCALE:GREGORIAN
METHOD:PUBLISH
X-WR-CALNAME:Norsk Numismatisk Forening
X-ORIGINAL-URL:https://www.norsknum.org
X-WR-CALDESC:Events for Norsk Numismatisk Forening
BEGIN:VEVENT
DTSTART;TZID=Europe/Oslo:20240503T180000
DTEND;TZID=Europe/Oslo:20240503T220000
DTSTAMP:20260423T152302
CREATED:20240125T192419Z
LAST-MODIFIED:20240404T195654Z
UID:3355-1714759200-1714773600@www.norsknum.org
SUMMARY:Åpent medlemsmøte - FREDAG
DESCRIPTION:NNF inviterer nok en gang til stort åpent møte i forkant av auksjonene til Oslo Myntgalleri. Det blir fire helt ulike foredrag samt mingling og auksjon. MERK TIDLIG START! \nForedrag fra 1830: \n\n0. Innledning ved formannen\n1. General Fircks “kuskeknapper” (G.525\,528\,529\,530 / B.3\,7\,6\,11)\nved Guttorm Egge\n2. Legitimization of the ELITES in Poland and Norway ca 1000-1300\nved Mika Boros\, KHM UiO\n3. Glimt fra Brasils gyldne fortid ved Pål Nag Aas\n4. Medaljer – Galster 85 ved Finn Erhard Johannessen\n \nDet blir også tilgang til deltagelse via Teams fra ca kl 18:20.\nEgen invitasjon for dette blir sendt ut noen dager før møtet. \nFølg og lik! =)
URL:https://www.norsknum.org/?tribe_events=apent-medlemsmote-fredag
LOCATION:Sparebank1 bygget\, Olav Vs gate 5\, Oslo\, Oslo\, 0161\, Norge
CATEGORIES:Medlemsmøter
END:VEVENT
END:VCALENDAR