BEGIN:VCALENDAR
VERSION:2.0
PRODID:-//Norsk Numismatisk Forening - ECPv4.7.4//NONSGML v1.0//EN
CALSCALE:GREGORIAN
METHOD:PUBLISH
X-WR-CALNAME:Norsk Numismatisk Forening
X-ORIGINAL-URL:https://www.norsknum.org
X-WR-CALDESC:Events for Norsk Numismatisk Forening
BEGIN:VEVENT
DTSTART;TZID=Europe/Oslo:20160426T190000
DTEND;TZID=Europe/Oslo:20160426T220000
DTSTAMP:20260424T200927
CREATED:20160421T051929Z
LAST-MODIFIED:20160421T051929Z
UID:973-1461697200-1461708000@www.norsknum.org
SUMMARY:Medlemsmøte
DESCRIPTION:Bernt Bertelsens foredrag om forfalskninger må utgå\, men i stedet kommer Kjetil Kvist med ”overraskelsesforedrag”.  Mer vil han ikke si\,  men det blir sikkert ikke kjedelig\, og helt sikkert interessant – Kjetil er en av våre mest kunnskapsrike numismatikere. Dessverre ingen auksjon\, vi har for tiden for få kvalitetsobjekter. \nFølg og lik! =)
URL:https://www.norsknum.org/?tribe_events=medlemsmote-10
LOCATION:Håndverkeren\, Rosenkrantz gate 7\, Rosenkrantz gate 7\, Oslo\, Oslo\, 0162\, Norge
CATEGORIES:Medlemsmøter
END:VEVENT
END:VCALENDAR