BEGIN:VCALENDAR
VERSION:2.0
PRODID:-//Norsk Numismatisk Forening - ECPv4.7.4//NONSGML v1.0//EN
CALSCALE:GREGORIAN
METHOD:PUBLISH
X-WR-CALNAME:Norsk Numismatisk Forening
X-ORIGINAL-URL:https://www.norsknum.org
X-WR-CALDESC:Events for Norsk Numismatisk Forening
BEGIN:VEVENT
DTSTART;TZID=Europe/Oslo:20160927T190000
DTEND;TZID=Europe/Oslo:20160927T220000
DTSTAMP:20260424T124422
CREATED:20160421T052528Z
LAST-MODIFIED:20160823T051516Z
UID:991-1475002800-1475013600@www.norsknum.org
SUMMARY:Medlemsmøte
DESCRIPTION:Medlemsmøte med auksjon. \nLars Lunde ”Varianter av norske mynter 1872-1957”. \nLunde har samlet varianter siden 1972 og har i dag en samling på ca 10.000 fordelt på 50 permer. Han er i ferd med å gi ut bok\, første bind vil omhandle perioden 1872 til 1923. (Bildet nedenfor viser et tidlig utkast til forside). \n \nFølg og lik! =)
URL:https://www.norsknum.org/?tribe_events=medlemsmote-12-2
LOCATION:Håndverkeren\, Rosenkrantz gate 7\, Rosenkrantz gate 7\, Oslo\, Oslo\, 0162\, Norge
CATEGORIES:Medlemsmøter
END:VEVENT
END:VCALENDAR