BEGIN:VCALENDAR
VERSION:2.0
PRODID:-//Norsk Numismatisk Forening - ECPv4.7.4//NONSGML v1.0//EN
CALSCALE:GREGORIAN
METHOD:PUBLISH
X-WR-CALNAME:Norsk Numismatisk Forening
X-ORIGINAL-URL:https://www.norsknum.org
X-WR-CALDESC:Events for Norsk Numismatisk Forening
BEGIN:VEVENT
DTSTART;TZID=Europe/Oslo:20161213T180000
DTEND;TZID=Europe/Oslo:20161213T220000
DTSTAMP:20260420T201143
CREATED:20161108T062528Z
LAST-MODIFIED:20161207T093242Z
UID:1043-1481652000-1481666400@www.norsknum.org
SUMMARY:Julemøte
DESCRIPTION:Julemøte med auksjon. \nFølg og lik! =)
URL:https://www.norsknum.org/?tribe_events=medlemsmote-12-2-2-2-2
LOCATION:Sted uten navn\, Oslo
END:VEVENT
END:VCALENDAR