BEGIN:VCALENDAR
VERSION:2.0
PRODID:-//Norsk Numismatisk Forening - ECPv4.7.4//NONSGML v1.0//EN
CALSCALE:GREGORIAN
METHOD:PUBLISH
X-WR-CALNAME:Norsk Numismatisk Forening
X-ORIGINAL-URL:https://www.norsknum.org
X-WR-CALDESC:Events for Norsk Numismatisk Forening
BEGIN:VEVENT
DTSTART;TZID=Europe/Oslo:20170829T180000
DTEND;TZID=Europe/Oslo:20170829T220000
DTSTAMP:20260420T181934
CREATED:20161108T062528Z
LAST-MODIFIED:20171122T124459Z
UID:1086-1504029600-1504044000@www.norsknum.org
SUMMARY:Medlemsmøte
DESCRIPTION:Medlemsmøte med auksjon. \nKjetil Kvist: Augustus i august. Hvor totalitært var egentlig hans keiserlige regime? \nFølg og lik! =)
URL:https://www.norsknum.org/?tribe_events=medlemsmote-12-2-2-2-3-2-3-2
LOCATION:Wilhelmsenbygget\, Olav Vs gate 5\, Oslo\, Oslo\, 0161\, Norge
CATEGORIES:Medlemsmøter
END:VEVENT
END:VCALENDAR