BEGIN:VCALENDAR
VERSION:2.0
PRODID:-//Norsk Numismatisk Forening - ECPv4.7.4//NONSGML v1.0//EN
CALSCALE:GREGORIAN
METHOD:PUBLISH
X-WR-CALNAME:Norsk Numismatisk Forening
X-ORIGINAL-URL:https://www.norsknum.org
X-WR-CALDESC:Events for Norsk Numismatisk Forening
BEGIN:VEVENT
DTSTART;TZID=Europe/Oslo:20160614T180000
DTEND;TZID=Europe/Oslo:20160614T220000
DTSTAMP:20260424T162457
CREATED:20160421T052528Z
LAST-MODIFIED:20160613T175723Z
UID:975-1465927200-1465941600@www.norsknum.org
SUMMARY:Medlemsmøte
DESCRIPTION:Vi er invitert til å beskue Nordeas meget omfattende myntsamling. Etterpå spiser vi på et nærliggende spisested. Her er påmelding nødvendig\, Nordea vil ha navneliste før vi kommer. Påmelding kan skje i april eller mai-møte.  Vi kommer tilbake til påmelding pr. e-post.    \nNB\, sommermøtet starter kl 18:00 \nFølg og lik! =)
URL:https://www.norsknum.org/?tribe_events=medlemsmote-12-3
LOCATION:Nordea\, Essendrops gate 7\, Oslo\, Oslo\, 0368\, Norge
CATEGORIES:Medlemsmøter
END:VEVENT
END:VCALENDAR