BEGIN:VCALENDAR
VERSION:2.0
PRODID:-//Norsk Numismatisk Forening - ECPv4.7.4//NONSGML v1.0//EN
CALSCALE:GREGORIAN
METHOD:PUBLISH
X-WR-CALNAME:Norsk Numismatisk Forening
X-ORIGINAL-URL:https://www.norsknum.org
X-WR-CALDESC:Events for Norsk Numismatisk Forening
BEGIN:VEVENT
DTSTART;TZID=Europe/Oslo:20231031T180000
DTEND;TZID=Europe/Oslo:20231031T220000
DTSTAMP:20260424T021353
CREATED:20230327T165903Z
LAST-MODIFIED:20230913T191704Z
UID:3229-1698775200-1698789600@www.norsknum.org
SUMMARY:Medlemsmøte
DESCRIPTION:Foredrag av Svein H. Gullbekk: “En viking i solen: Harald Hardråde\, innflytelse fra Bysants og etableringen av et nasjonalt myntvesen.” \nAuksjon \nFølg og lik! =)
URL:https://www.norsknum.org/?tribe_events=medlemsmote-18
LOCATION:Wilhelmsenbygget\, Olav Vs gate 5\, Oslo\, Oslo\, 0161\, Norge
CATEGORIES:Medlemsmøter
END:VEVENT
END:VCALENDAR