BEGIN:VCALENDAR
VERSION:2.0
PRODID:-//Norsk Numismatisk Forening - ECPv4.7.4//NONSGML v1.0//EN
CALSCALE:GREGORIAN
METHOD:PUBLISH
X-WR-CALNAME:Norsk Numismatisk Forening
X-ORIGINAL-URL:https://www.norsknum.org
X-WR-CALDESC:Events for Norsk Numismatisk Forening
BEGIN:VEVENT
DTSTART;TZID=Europe/Oslo:20240827T180000
DTEND;TZID=Europe/Oslo:20240827T213000
DTSTAMP:20260423T101148
CREATED:20240125T192916Z
LAST-MODIFIED:20240603T164246Z
UID:3361-1724781600-1724794200@www.norsknum.org
SUMMARY:Tirsdag 27. august 2024
DESCRIPTION:Ordinært medlemsmøte. Foredrag ved Kjetil Kvist: \nCoin of the year (COTY) og moderne mynter – framtidens samlerobjekter. \nFølg og lik! =)
URL:https://www.norsknum.org/?tribe_events=medlemsmote-21
LOCATION:Sparebank1 bygget\, Olav Vs gate 5\, Oslo\, Oslo\, 0161\, Norge
CATEGORIES:Medlemsmøter
END:VEVENT
END:VCALENDAR