BEGIN:VCALENDAR
VERSION:2.0
PRODID:-//Norsk Numismatisk Forening - ECPv4.7.4//NONSGML v1.0//EN
CALSCALE:GREGORIAN
METHOD:PUBLISH
X-WR-CALNAME:Norsk Numismatisk Forening
X-ORIGINAL-URL:https://www.norsknum.org
X-WR-CALDESC:Events for Norsk Numismatisk Forening
BEGIN:VEVENT
DTSTART;TZID=Europe/Oslo:20240130T180000
DTEND;TZID=Europe/Oslo:20240130T220000
DTSTAMP:20260423T202638
CREATED:20240101T223128Z
LAST-MODIFIED:20240101T223206Z
UID:3339-1706637600-1706652000@www.norsknum.org
SUMMARY:Medlemsmøte 30. januar 2024
DESCRIPTION:Året starter med et spennende fordrag av Murray Andrews med tittelen: “All that glitters: new research on gold coinage in late medieval and early modern Norway”. \nAuksjon \nFølg og lik! =)
URL:https://www.norsknum.org/?tribe_events=medlemsmote-30-januar-2024
LOCATION:Sparebank1 bygget\, Olav Vs gate 5\, Oslo\, Oslo\, 0161\, Norge
CATEGORIES:Medlemsmøter
END:VEVENT
END:VCALENDAR