BEGIN:VCALENDAR
VERSION:2.0
PRODID:-//Norsk Numismatisk Forening - ECPv4.7.4//NONSGML v1.0//EN
CALSCALE:GREGORIAN
METHOD:PUBLISH
X-WR-CALNAME:Norsk Numismatisk Forening
X-ORIGINAL-URL:https://www.norsknum.org
X-WR-CALDESC:Events for Norsk Numismatisk Forening
BEGIN:VEVENT
DTSTART;TZID=Europe/Oslo:20260616T180000
DTEND;TZID=Europe/Oslo:20260616T220000
DTSTAMP:20260419T134701
CREATED:20260208T151811Z
LAST-MODIFIED:20260208T151851Z
UID:3808-1781632800-1781647200@www.norsknum.org
SUMMARY:Sommermøte 16. juni
DESCRIPTION:Mer informasjon kommer senere. \nFølg og lik! =)
URL:https://www.norsknum.org/?tribe_events=sommermote-16-juni
END:VEVENT
END:VCALENDAR